BEGIN:VCALENDAR
VERSION:2.0
PRODID:-//Seaview Tavern Woolgoolga - ECPv6.15.20//NONSGML v1.0//EN
CALSCALE:GREGORIAN
METHOD:PUBLISH
X-WR-CALNAME:Seaview Tavern Woolgoolga
X-ORIGINAL-URL:https://www.seaviewtavern.com.au
X-WR-CALDESC:Events for Seaview Tavern Woolgoolga
REFRESH-INTERVAL;VALUE=DURATION:PT1H
X-Robots-Tag:noindex
X-PUBLISHED-TTL:PT1H
BEGIN:VTIMEZONE
TZID:Australia/Sydney
BEGIN:STANDARD
TZOFFSETFROM:+1100
TZOFFSETTO:+1000
TZNAME:AEST
DTSTART:20250405T160000
END:STANDARD
BEGIN:DAYLIGHT
TZOFFSETFROM:+1000
TZOFFSETTO:+1100
TZNAME:AEDT
DTSTART:20251004T160000
END:DAYLIGHT
BEGIN:STANDARD
TZOFFSETFROM:+1100
TZOFFSETTO:+1000
TZNAME:AEST
DTSTART:20260404T160000
END:STANDARD
BEGIN:DAYLIGHT
TZOFFSETFROM:+1000
TZOFFSETTO:+1100
TZNAME:AEDT
DTSTART:20261003T160000
END:DAYLIGHT
BEGIN:STANDARD
TZOFFSETFROM:+1100
TZOFFSETTO:+1000
TZNAME:AEST
DTSTART:20270403T160000
END:STANDARD
BEGIN:DAYLIGHT
TZOFFSETFROM:+1000
TZOFFSETTO:+1100
TZNAME:AEDT
DTSTART:20271002T160000
END:DAYLIGHT
END:VTIMEZONE
BEGIN:VEVENT
DTSTART;TZID=Australia/Sydney:20260425T130000
DTEND;TZID=Australia/Sydney:20260425T220000
DTSTAMP:20260425T002249
CREATED:20260407T033545Z
LAST-MODIFIED:20260407T034022Z
UID:22796-1777122000-1777154400@www.seaviewtavern.com.au
SUMMARY:Anzac Day
DESCRIPTION:Lest We Forget \n2UP from 1pm \nFooty live & loud on the big screen \n\nDragons v Roosters 4pm\nWarriors v Dolphins 6pm\nStorm v Rabbitohs 8pm
URL:https://www.seaviewtavern.com.au/event/anzac-day/
LOCATION:The Seaview Tavern\, 51 River Street\, Woolgoolga\, NSW\, 2456\, Australia
ATTACH;FMTTYPE=image/jpeg:https://www.seaviewtavern.com.au/wp-content/uploads/2024/03/ANZAC-Day-at-the-Seaview-Tavern-Saturday-April-25-2026.jpg
END:VEVENT
BEGIN:VEVENT
DTSTART;TZID=Australia/Sydney:20260426T150000
DTEND;TZID=Australia/Sydney:20260426T180000
DTSTAMP:20260425T002249
CREATED:20260410T032142Z
LAST-MODIFIED:20260410T032142Z
UID:27035-1777215600-1777226400@www.seaviewtavern.com.au
SUMMARY:Eli Fahey
DESCRIPTION:
URL:https://www.seaviewtavern.com.au/event/eli-fahey/
LOCATION:The Seaview Tavern\, 51 River Street\, Woolgoolga\, NSW\, 2456\, Australia
ATTACH;FMTTYPE=image/jpeg:https://www.seaviewtavern.com.au/wp-content/uploads/2026/04/Sunday-Session-with-Eli-Fahey-April-26-at-the-Seaview-Tavern-Woolgoolga.jpg
END:VEVENT
BEGIN:VEVENT
DTSTART;TZID=Australia/Sydney:20260429T193000
DTEND;TZID=Australia/Sydney:20260429T210000
DTSTAMP:20260425T002249
CREATED:20260210T031526Z
LAST-MODIFIED:20260210T031526Z
UID:26545-1777491000-1777496400@www.seaviewtavern.com.au
SUMMARY:Skrewy Louie's Twisted Trivia
DESCRIPTION:Trivia night with a twist! You’ll never be greeted by a more outrageously hilarious host with the most than Skrewy Louie! You’ll laugh\, maybe even cry\, but most of all\, be in with a chance to win great prizes!
URL:https://www.seaviewtavern.com.au/event/skrewy-louies-twisted-trivia-apr-29-2026/
LOCATION:The Seaview Tavern\, 51 River Street\, Woolgoolga\, NSW\, 2456\, Australia
ATTACH;FMTTYPE=image/jpeg:https://www.seaviewtavern.com.au/wp-content/uploads/2021/09/SV_SkrewysTrivia_Wednesday_WEB.jpg
END:VEVENT
BEGIN:VEVENT
DTSTART;TZID=Australia/Sydney:20260430T190000
DTEND;TZID=Australia/Sydney:20260430T210000
DTSTAMP:20260425T002249
CREATED:20260210T030530Z
LAST-MODIFIED:20260210T030530Z
UID:26537-1777575600-1777582800@www.seaviewtavern.com.au
SUMMARY:Musical Bingo
DESCRIPTION:Heaps of fun! Music Galore! Great Prizes!
URL:https://www.seaviewtavern.com.au/event/musical-bingo-apr-30-2026/
LOCATION:The Seaview Tavern\, 51 River Street\, Woolgoolga\, NSW\, 2456\, Australia
ATTACH;FMTTYPE=image/jpeg:https://www.seaviewtavern.com.au/wp-content/uploads/2024/04/Musical-Bingo-at-the-Seaview-Tavern-Woolgoolga.jpeg
END:VEVENT
BEGIN:VEVENT
DTSTART;TZID=Australia/Sydney:20260501T180000
DTEND;TZID=Australia/Sydney:20260501T203000
DTSTAMP:20260425T002249
CREATED:20260317T213055Z
LAST-MODIFIED:20260317T213120Z
UID:26441-1777658400-1777667400@www.seaviewtavern.com.au
SUMMARY:Joker Poker
DESCRIPTION:Joker Poker is back! \nJackpot increases by $100 each week it is not won. \n\nMeat trays from 6pm\nJackpot 8pm\n\nProudly supporting Woolgoolga Boardriders Club\, Woolgoolga Boaties and Woolgoolga Netball Association.
URL:https://www.seaviewtavern.com.au/event/joker-poker-may-1-2026/
LOCATION:The Seaview Tavern\, 51 River Street\, Woolgoolga\, NSW\, 2456\, Australia
ATTACH;FMTTYPE=image/jpeg:https://www.seaviewtavern.com.au/wp-content/uploads/2026/02/Joker-Poker-with-a-happy-ending-at-the-Seaview-Tavern-Woolgoolga.jpg
END:VEVENT
BEGIN:VEVENT
DTSTART;TZID=Australia/Sydney:20260501T203000
DTEND;TZID=Australia/Sydney:20260501T230000
DTSTAMP:20260425T002249
CREATED:20250330T223510Z
LAST-MODIFIED:20260317T213543Z
UID:25425-1777667400-1777676400@www.seaviewtavern.com.au
SUMMARY:Got It Covered
DESCRIPTION:Come and experience a fun filled night of dancing with Got It Covered. With covers of Australian and International artists including Pretenders\, Queen\, Pat Benatar and Cold Chisel. \nFeaturing: \n\nMary Rose Machatsch (Vocals / Percussion)\nScott Anlezark (Lead Guitarist / Vocals)\nGary Nottingham (Drums / Vocals)\nMark Batchelor (Bass Guitarist / Vocals)
URL:https://www.seaviewtavern.com.au/event/got-it-covered/
LOCATION:The Seaview Tavern\, 51 River Street\, Woolgoolga\, NSW\, 2456\, Australia
ATTACH;FMTTYPE=image/jpeg:https://www.seaviewtavern.com.au/wp-content/uploads/2025/03/Got-it-Covered-perform-live-at-the-Seaview-Tavern-Woolgoolga.jpeg
END:VEVENT
BEGIN:VEVENT
DTSTART;TZID=Australia/Sydney:20260502T190000
DTEND;TZID=Australia/Sydney:20260502T230000
DTSTAMP:20260425T002249
CREATED:20260416T034659Z
LAST-MODIFIED:20260416T034659Z
UID:27068-1777748400-1777762800@www.seaviewtavern.com.au
SUMMARY:Fundraiser for Brad Deighton
DESCRIPTION:We’re putting on a free show\, downstairs in the main bar\, so come along and help us raise money for Brad. \nWe’ve got a huge lineup of live music with: \n\nLou-La-La Band\nNathan Beretta\nMitch Burgess\nRonin Lane\n\nPlus loads of raffles and prizes up for grabs throughout the night. Let’s get together\, have a great time and show some support for a good cause. \n 
URL:https://www.seaviewtavern.com.au/event/fundraiser-for-brad-deighton/
LOCATION:The Seaview Tavern\, 51 River Street\, Woolgoolga\, NSW\, 2456\, Australia
ATTACH;FMTTYPE=image/jpeg:https://www.seaviewtavern.com.au/wp-content/uploads/2025/04/Fundraiser-for-Brad-Deighton-at-the-Seaview-Tavern-Woolgoolga.jpg
END:VEVENT
BEGIN:VEVENT
DTSTART;TZID=Australia/Sydney:20260502T203000
DTEND;TZID=Australia/Sydney:20260502T233000
DTSTAMP:20260425T002249
CREATED:20231209T201650Z
LAST-MODIFIED:20260317T213630Z
UID:22199-1777753800-1777764600@www.seaviewtavern.com.au
SUMMARY:DJ Bisho
DESCRIPTION:DJ Bisho has been a favourite on the North Coast for the past 30 years. \nHis paid DJ career started in 1986 & he hasn’t looked back since. Before DJ-ing Bisho was a rock drummer performing all around the coast in various bands. While his passion for music is wide & varied\, he is a master of new & old school R&B\, dance music & party anthems.
URL:https://www.seaviewtavern.com.au/event/dj-bisho/
LOCATION:The Seaview Tavern\, 51 River Street\, Woolgoolga\, NSW\, 2456\, Australia
ATTACH;FMTTYPE=image/jpeg:https://www.seaviewtavern.com.au/wp-content/uploads/2023/12/DJ-Bisho.jpg
END:VEVENT
BEGIN:VEVENT
DTSTART;TZID=Australia/Sydney:20260506T193000
DTEND;TZID=Australia/Sydney:20260506T210000
DTSTAMP:20260425T002249
CREATED:20260317T212549Z
LAST-MODIFIED:20260317T212750Z
UID:26136-1778095800-1778101200@www.seaviewtavern.com.au
SUMMARY:Skrewy Louie's Twisted Trivia
DESCRIPTION:Trivia night with a twist! You’ll never be greeted by a more outrageously hilarious host with the most than Skrewy Louie! You’ll laugh\, maybe even cry\, but most of all\, be in with a chance to win great prizes!
URL:https://www.seaviewtavern.com.au/event/skrewy-louies-twisted-trivia-may-6-2026/
LOCATION:The Seaview Tavern\, 51 River Street\, Woolgoolga\, NSW\, 2456\, Australia
ATTACH;FMTTYPE=image/jpeg:https://www.seaviewtavern.com.au/wp-content/uploads/2021/09/SV_SkrewysTrivia_Wednesday_WEB.jpg
END:VEVENT
BEGIN:VEVENT
DTSTART;TZID=Australia/Sydney:20260507T190000
DTEND;TZID=Australia/Sydney:20260507T210000
DTSTAMP:20260425T002249
CREATED:20260317T212022Z
LAST-MODIFIED:20260317T212415Z
UID:26246-1778180400-1778187600@www.seaviewtavern.com.au
SUMMARY:Musical Bingo
DESCRIPTION:Heaps of fun! Music Galore! Great Prizes!
URL:https://www.seaviewtavern.com.au/event/musical-bingo-may-7-2026/
LOCATION:The Seaview Tavern\, 51 River Street\, Woolgoolga\, NSW\, 2456\, Australia
ATTACH;FMTTYPE=image/jpeg:https://www.seaviewtavern.com.au/wp-content/uploads/2024/04/Musical-Bingo-at-the-Seaview-Tavern-Woolgoolga.jpeg
END:VEVENT
BEGIN:VEVENT
DTSTART;TZID=Australia/Sydney:20260508T180000
DTEND;TZID=Australia/Sydney:20260508T203000
DTSTAMP:20260425T002249
CREATED:20260317T213014Z
LAST-MODIFIED:20260317T213157Z
UID:26443-1778263200-1778272200@www.seaviewtavern.com.au
SUMMARY:Joker Poker
DESCRIPTION:Joker Poker is back! \nJackpot increases by $100 each week it is not won. \n\nMeat trays from 6pm\nJackpot 8pm\n\nProudly supporting Woolgoolga Boardriders Club\, Woolgoolga Boaties and Woolgoolga Netball Association.
URL:https://www.seaviewtavern.com.au/event/joker-poker-may-8-2026/
LOCATION:The Seaview Tavern\, 51 River Street\, Woolgoolga\, NSW\, 2456\, Australia
ATTACH;FMTTYPE=image/jpeg:https://www.seaviewtavern.com.au/wp-content/uploads/2026/02/Joker-Poker-with-a-happy-ending-at-the-Seaview-Tavern-Woolgoolga.jpg
END:VEVENT
BEGIN:VEVENT
DTSTART;TZID=Australia/Sydney:20260508T203000
DTEND;TZID=Australia/Sydney:20260508T230000
DTSTAMP:20260425T002249
CREATED:20241106T024615Z
LAST-MODIFIED:20260317T213815Z
UID:24636-1778272200-1778281200@www.seaviewtavern.com.au
SUMMARY:Marshall & The Fro
DESCRIPTION:All over Australia the name ‘Marshall and the Fro’ has become synonymous with good feelings\, late nights\, and frothing festival tents. Favouring stomp over swamp\, country over western\, and rhythm over blues\, Marshall and The Fro is a winning combination of birth-right talent\, seasoned musicianship and the result of good old fashioned hard work. \nMusically the band is painted in the earthy licks and bottle-neck slide of universal influences Hendrix and Stevie Ray Vaughan\, add to this Bon Scott’s hard-working sense of charisma\, Angus Young’s stage enthusiasm and the steam-train backing of an incredibly well-oiled rhythm section and you should get the general idea of what to expect of Marshall & the Fro. \nMarshall and the Fro have graced the stages of festivals including Byron Bluesfest\, Woodford\, The Quiksilver Pro\, Blues on Broadbeach\, Falls Festival and many more. \nHaving become established as the quintessential sound of the Aussie surfing mojo blues\, the band has enjoyed an illustrious period of touring and airplay\, featuring on international surf film scores\, receiving multiple awards and collecting a loyal fan base along the way.
URL:https://www.seaviewtavern.com.au/event/marshall-the-fro/
LOCATION:The Seaview Tavern\, 51 River Street\, Woolgoolga\, NSW\, 2456\, Australia
ATTACH;FMTTYPE=image/jpeg:https://www.seaviewtavern.com.au/wp-content/uploads/2024/11/Marshall-the-Fro-at-the-Seaview-Tavern-Woolgoolga.jpg
END:VEVENT
BEGIN:VEVENT
DTSTART;TZID=Australia/Sydney:20260508T203000
DTEND;TZID=Australia/Sydney:20260510T183000
DTSTAMP:20260425T002249
CREATED:20260312T234951Z
LAST-MODIFIED:20260312T235317Z
UID:26738-1778272200-1778437800@www.seaviewtavern.com.au
SUMMARY:Big Blues Weekend
DESCRIPTION:Three incredible acts\, one epic weekend. \nFriday 8 May | Marshall & The Fro (from 8:30pm) \nSaturday 9 May | Brothers – Nathan Beretta\, Frank Sultana & Dan Sullivan (from 8:30pm) \nSunday 10 May | Milo Green (from 3pm)
URL:https://www.seaviewtavern.com.au/event/big-blues-weekend/
LOCATION:The Seaview Tavern\, 51 River Street\, Woolgoolga\, NSW\, 2456\, Australia
ATTACH;FMTTYPE=image/jpeg:https://www.seaviewtavern.com.au/wp-content/uploads/2026/03/Blues-Weekend-at-The-Seaview-WEB.jpg
END:VEVENT
BEGIN:VEVENT
DTSTART;TZID=Australia/Sydney:20260509T203000
DTEND;TZID=Australia/Sydney:20260509T230000
DTSTAMP:20260425T002249
CREATED:20260311T011213Z
LAST-MODIFIED:20260311T011213Z
UID:26715-1778358600-1778367600@www.seaviewtavern.com.au
SUMMARY:Brothers
DESCRIPTION:Don’t miss the blues event of the year here at the Seaview Tavern. \nBrothers playing live featuring Nathan Beretta\, Frank Sultana and Dan Sullivan. \nSponsored by Jack Daniel’s Old No.7
URL:https://www.seaviewtavern.com.au/event/brothers/
LOCATION:The Seaview Tavern\, 51 River Street\, Woolgoolga\, NSW\, 2456\, Australia
ATTACH;FMTTYPE=image/jpeg:https://www.seaviewtavern.com.au/wp-content/uploads/2026/03/Brothers-playing-live-at-the-Seaview-Tavern-Woolgoolga.jpg
END:VEVENT
BEGIN:VEVENT
DTSTART;TZID=Australia/Sydney:20260510T120000
DTEND;TZID=Australia/Sydney:20260510T183000
DTSTAMP:20260425T002249
CREATED:20260407T034450Z
LAST-MODIFIED:20260407T034450Z
UID:26992-1778414400-1778437800@www.seaviewtavern.com.au
SUMMARY:Mother's Day
DESCRIPTION:Join us in celebrating all mum’s \n\nComplimentary glass of champagne with every main meal for mum\nKids Activities with Art with Jess\nLive music with Milo Green from 3pm\nPre-book your table for Lunch & Mum’s will enjoy bottomless champagne
URL:https://www.seaviewtavern.com.au/event/mothers-day/
LOCATION:The Seaview Tavern\, 51 River Street\, Woolgoolga\, NSW\, 2456\, Australia
ATTACH;FMTTYPE=image/jpeg:https://www.seaviewtavern.com.au/wp-content/uploads/2024/03/Mothers-Dat-at-the-Seaview-Sunday-10th-May-2026.jpg
END:VEVENT
BEGIN:VEVENT
DTSTART;TZID=Australia/Sydney:20260510T150000
DTEND;TZID=Australia/Sydney:20260510T183000
DTSTAMP:20260425T002249
CREATED:20250305T010930Z
LAST-MODIFIED:20260317T214159Z
UID:25309-1778425200-1778437800@www.seaviewtavern.com.au
SUMMARY:Mothers Day: Milo Green
DESCRIPTION:Under different stage names Milo Green is an award-winning songwriter and musician who has supported iconic artists like Diesel\, Dragon\, Josh Pyke\, Glen Shorrock (Little River Band) and more. With true artistry and a warm nature\, Milo has built his current project to perform well-known songs and some of his own with soul. \nWhether it’s classy versions of The Rolling Stones tunes or iconic ’60s soul with a twist\, audiences are never disappointed.
URL:https://www.seaviewtavern.com.au/event/milo-green/
LOCATION:The Seaview Tavern\, 51 River Street\, Woolgoolga\, NSW\, 2456\, Australia
ATTACH;FMTTYPE=image/jpeg:https://www.seaviewtavern.com.au/wp-content/uploads/2025/03/Milo-Green-performs-at-the-Seaview-Tavern.jpg
END:VEVENT
BEGIN:VEVENT
DTSTART;TZID=Australia/Sydney:20260513T193000
DTEND;TZID=Australia/Sydney:20260513T210000
DTSTAMP:20260425T002249
CREATED:20260317T212601Z
LAST-MODIFIED:20260317T212829Z
UID:26195-1778700600-1778706000@www.seaviewtavern.com.au
SUMMARY:Skrewy Louie's Twisted Trivia
DESCRIPTION:Trivia night with a twist! You’ll never be greeted by a more outrageously hilarious host with the most than Skrewy Louie! You’ll laugh\, maybe even cry\, but most of all\, be in with a chance to win great prizes!
URL:https://www.seaviewtavern.com.au/event/skrewy-louies-twisted-trivia-may-13-2026/
LOCATION:The Seaview Tavern\, 51 River Street\, Woolgoolga\, NSW\, 2456\, Australia
ATTACH;FMTTYPE=image/jpeg:https://www.seaviewtavern.com.au/wp-content/uploads/2021/09/SV_SkrewysTrivia_Wednesday_WEB.jpg
END:VEVENT
BEGIN:VEVENT
DTSTART;TZID=Australia/Sydney:20260514T190000
DTEND;TZID=Australia/Sydney:20260514T210000
DTSTAMP:20260425T002249
CREATED:20260317T212243Z
LAST-MODIFIED:20260317T212454Z
UID:25423-1778785200-1778792400@www.seaviewtavern.com.au
SUMMARY:Musical Bingo
DESCRIPTION:Heaps of fun! Music Galore! Great Prizes!
URL:https://www.seaviewtavern.com.au/event/musical-bingo-may-14-2026/
LOCATION:The Seaview Tavern\, 51 River Street\, Woolgoolga\, NSW\, 2456\, Australia
ATTACH;FMTTYPE=image/jpeg:https://www.seaviewtavern.com.au/wp-content/uploads/2024/04/Musical-Bingo-at-the-Seaview-Tavern-Woolgoolga.jpeg
END:VEVENT
BEGIN:VEVENT
DTSTART;TZID=Australia/Sydney:20260515T180000
DTEND;TZID=Australia/Sydney:20260515T203000
DTSTAMP:20260425T002249
CREATED:20260317T213105Z
LAST-MODIFIED:20260317T213229Z
UID:26445-1778868000-1778877000@www.seaviewtavern.com.au
SUMMARY:Joker Poker
DESCRIPTION:Joker Poker is back! \nJackpot increases by $100 each week it is not won. \n\nMeat trays from 6pm\nJackpot 8pm\n\nProudly supporting Woolgoolga Boardriders Club\, Woolgoolga Boaties and Woolgoolga Netball Association.
URL:https://www.seaviewtavern.com.au/event/joker-poker-may-15-2026/
LOCATION:The Seaview Tavern\, 51 River Street\, Woolgoolga\, NSW\, 2456\, Australia
ATTACH;FMTTYPE=image/jpeg:https://www.seaviewtavern.com.au/wp-content/uploads/2026/02/Joker-Poker-with-a-happy-ending-at-the-Seaview-Tavern-Woolgoolga.jpg
END:VEVENT
BEGIN:VEVENT
DTSTART;TZID=Australia/Sydney:20260515T203000
DTEND;TZID=Australia/Sydney:20260515T230000
DTSTAMP:20260425T002249
CREATED:20240903T075704Z
LAST-MODIFIED:20260317T214259Z
UID:24139-1778877000-1778886000@www.seaviewtavern.com.au
SUMMARY:Slyder
DESCRIPTION:Slyder Band are a Coffs Harbour based outfit that play covers of various artists of popular songs from the 70’s through to the 2000’s. Primarily concentrated mainly in the 80’s genre\, their playlist is styled to get you up and out of your seat and onto the dance floor to ensure that you have a fun and enjoyable night. \nThey cover a wide variety of Australian artist’s from INXS\, Mental as Anything\, Dragon\, Midnight Oil and Thirsty Merc to International cover songs by Queen \,Kid Rock\, John Cougar and Billy Idol. \nSlyder’s band members come with a wealth of experience with Dave Varley on Lead vocals\, Lead Guitar and backing vocals. Dave has played in many bands around the Mid North Coast from Happy Cannibals through to Vanessa Lea and Roadtrain and will entertain you with his wailing guitar and vocals. \nGlen Sweeney on Lead Vocals\,Bass Guitar and backing vocals is also well known on the Mid North Coast\, most notably as the former front man of Gunshy and The Stripes. Glen shares the lead vocals with Dave and his bass guitar is a driving force behind the band. \nKevin Few on Drums\, lead and backing vocals is the glue binding Slyder band together. Kevin is a well known around the Coffs Harbour area\, having spent many years session drumming for bands including his own band Slipsteam and also previously played with Glen in legendary North Coast recording band Store Dummies in the 90’s. \nOne thing for sure is these guys will get you off your seat and on the floor for a great night of fun\, dancing and entertainment.
URL:https://www.seaviewtavern.com.au/event/slyder/
LOCATION:The Seaview Tavern\, 51 River Street\, Woolgoolga\, NSW\, 2456\, Australia
ATTACH;FMTTYPE=image/jpeg:https://www.seaviewtavern.com.au/wp-content/uploads/2024/04/Slyder-perform-live-at-the-Seaview-Tavern-Woolgoolga.jpeg
END:VEVENT
BEGIN:VEVENT
DTSTART;TZID=Australia/Sydney:20260516T183000
DTEND;TZID=Australia/Sydney:20260516T230000
DTSTAMP:20260425T002249
CREATED:20260416T034006Z
LAST-MODIFIED:20260416T034434Z
UID:25478-1778956200-1778972400@www.seaviewtavern.com.au
SUMMARY:Salsa Night featuring Salsa Town
DESCRIPTION:🔥 Salsa Night at The Seaview 🔥 \nGet ready to dance\, sip\, and celebrate at Salsa Night on Saturday 16th May. \n💃 Two-hour salsa lesson with the incredible Tom & Storm (6:30–8:30 PM)\n🎟 Just $15 for the salsa lesson – grab your spot now!\n🌮 Latin-inspired bistro specials to fuel your moves\n🍹 Drink specials all night long to keep you refreshed!\n🎶 DJ spinning Latin tracks from 8:30 PM till late to keep the party going! \nDon’t miss this spicy\, high-energy night! Book your tickets today 💃🔥 \nBook now: https://www.trybooking.com/events/landing/1572010
URL:https://www.seaviewtavern.com.au/event/latin-night-featuring-salsa-town/
LOCATION:The Seaview Tavern\, 51 River Street\, Woolgoolga\, NSW\, 2456\, Australia
CATEGORIES:Ticketed Event
ATTACH;FMTTYPE=image/jpeg:https://www.seaviewtavern.com.au/wp-content/uploads/2025/04/Salsa-Night-16th-May-2026-at-the-Seaview-Tavern-Woolgoolga.jpg
END:VEVENT
BEGIN:VEVENT
DTSTART;TZID=Australia/Sydney:20260516T203000
DTEND;TZID=Australia/Sydney:20260516T230000
DTSTAMP:20260425T002249
CREATED:20231209T202512Z
LAST-MODIFIED:20260317T214415Z
UID:22203-1778963400-1778972400@www.seaviewtavern.com.au
SUMMARY:Alexie Pigot
DESCRIPTION:Alexie Pigot is a multi-instrumentalist/singer based in Sydney\, Australia. Originally hailing from Coffs Harbour on the north coast of New South Wales\, he has been passionate about music since he was 13 years of age. In his 15+ year career to date he has established a robust reputation as an outstanding entertainer. \nAlexie is known for his ability to dynamically flow with the requirements of any event; whether it be laying low & creating some atmosphere with acoustic dinner music\, or getting the dancefloor moving with classic party songs\, Alexie is certainly not afraid of a microphone and can take your event in whichever direction you require\, all the while with bringing his engaging personality\, humour\, stage presence & not to mention a voice that you’ll fall in love with. \nWhen it comes to live entertainment\, you are in safe hands with Alexie Pigot.
URL:https://www.seaviewtavern.com.au/event/alexie-pigot/
LOCATION:The Seaview Tavern\, 51 River Street\, Woolgoolga\, NSW\, 2456\, Australia
ATTACH;FMTTYPE=image/jpeg:https://www.seaviewtavern.com.au/wp-content/uploads/2023/12/Alexie-Pigot-one-man-band-at-the-Seaview-Tavern-Woolgoolga.jpg
END:VEVENT
BEGIN:VEVENT
DTSTART;TZID=Australia/Sydney:20260520T193000
DTEND;TZID=Australia/Sydney:20260520T210000
DTSTAMP:20260425T002249
CREATED:20260317T212818Z
LAST-MODIFIED:20260317T212913Z
UID:26262-1779305400-1779310800@www.seaviewtavern.com.au
SUMMARY:Skrewy Louie's Twisted Trivia
DESCRIPTION:Trivia night with a twist! You’ll never be greeted by a more outrageously hilarious host with the most than Skrewy Louie! You’ll laugh\, maybe even cry\, but most of all\, be in with a chance to win great prizes!
URL:https://www.seaviewtavern.com.au/event/skrewy-louies-twisted-trivia-may-20-2026/
LOCATION:The Seaview Tavern\, 51 River Street\, Woolgoolga\, NSW\, 2456\, Australia
ATTACH;FMTTYPE=image/jpeg:https://www.seaviewtavern.com.au/wp-content/uploads/2021/09/SV_SkrewysTrivia_Wednesday_WEB.jpg
END:VEVENT
BEGIN:VEVENT
DTSTART;TZID=Australia/Sydney:20260521T190000
DTEND;TZID=Australia/Sydney:20260521T210000
DTSTAMP:20260425T002249
CREATED:20260317T212446Z
LAST-MODIFIED:20260317T212533Z
UID:25631-1779390000-1779397200@www.seaviewtavern.com.au
SUMMARY:Musical Bingo
DESCRIPTION:Heaps of fun! Music Galore! Great Prizes!
URL:https://www.seaviewtavern.com.au/event/musical-bingo-may-21-2026/
LOCATION:The Seaview Tavern\, 51 River Street\, Woolgoolga\, NSW\, 2456\, Australia
ATTACH;FMTTYPE=image/jpeg:https://www.seaviewtavern.com.au/wp-content/uploads/2024/04/Musical-Bingo-at-the-Seaview-Tavern-Woolgoolga.jpeg
END:VEVENT
BEGIN:VEVENT
DTSTART;TZID=Australia/Sydney:20260522T180000
DTEND;TZID=Australia/Sydney:20260522T203000
DTSTAMP:20260425T002249
CREATED:20260317T213116Z
LAST-MODIFIED:20260317T213303Z
UID:26477-1779472800-1779481800@www.seaviewtavern.com.au
SUMMARY:Joker Poker
DESCRIPTION:Jackpot increases by $100 each week it is not won. \n\nMeat trays from 6pm\nJackpot 8pm\n\nProudly supporting Woolgoolga Boardriders Club\, Woolgoolga Boaties and Woolgoolga Netball Association.
URL:https://www.seaviewtavern.com.au/event/joker-poker-may-22-2026/
LOCATION:The Seaview Tavern\, 51 River Street\, Woolgoolga\, NSW\, 2456\, Australia
ATTACH;FMTTYPE=image/jpeg:https://www.seaviewtavern.com.au/wp-content/uploads/2026/02/Joker-Poker-with-a-happy-ending-at-the-Seaview-Tavern-Woolgoolga.jpg
END:VEVENT
BEGIN:VEVENT
DTSTART;TZID=Australia/Sydney:20260522T203000
DTEND;TZID=Australia/Sydney:20260522T230000
DTSTAMP:20260425T002249
CREATED:20260317T214539Z
LAST-MODIFIED:20260326T031540Z
UID:26745-1779481800-1779490800@www.seaviewtavern.com.au
SUMMARY:Doc Rock Band
DESCRIPTION:DOC ROCK is a 4 piece high-energy pub rock cover band delivering crowd-favourite anthems and unstoppable live vibes. \nKnown for packing dance floors and keeping the party going all night\, they bring the ultimate dose of rock to every stage.
URL:https://www.seaviewtavern.com.au/event/doc-rock-band/
LOCATION:The Seaview Tavern\, 51 River Street\, Woolgoolga\, NSW\, 2456\, Australia
ATTACH;FMTTYPE=image/jpeg:https://www.seaviewtavern.com.au/wp-content/uploads/2026/03/Doc-Rock-perform-live-at-the-Seaview-Tavern-Woolgoolga.jpg
END:VEVENT
BEGIN:VEVENT
DTSTART;TZID=Australia/Sydney:20260523T203000
DTEND;TZID=Australia/Sydney:20260523T233000
DTSTAMP:20260425T002249
CREATED:20260317T214720Z
LAST-MODIFIED:20260317T214720Z
UID:26747-1779568200-1779579000@www.seaviewtavern.com.au
SUMMARY:DJ Bisho
DESCRIPTION:DJ Bisho has been a favourite on the North Coast for the past 30 years. \nHis paid DJ career started in 1986 & he hasn’t looked back since. Before DJ-ing Bisho was a rock drummer performing all around the coast in various bands. While his passion for music is wide & varied\, he is a master of new & old school R&B\, dance music & party anthems.
URL:https://www.seaviewtavern.com.au/event/dj-bisho-may-23-2026/
LOCATION:The Seaview Tavern\, 51 River Street\, Woolgoolga\, NSW\, 2456\, Australia
ATTACH;FMTTYPE=image/jpeg:https://www.seaviewtavern.com.au/wp-content/uploads/2023/12/DJ-Bisho.jpg
END:VEVENT
BEGIN:VEVENT
DTSTART;TZID=Australia/Sydney:20260527T193000
DTEND;TZID=Australia/Sydney:20260527T210000
DTSTAMP:20260425T002249
CREATED:20260317T212921Z
LAST-MODIFIED:20260317T213007Z
UID:26299-1779910200-1779915600@www.seaviewtavern.com.au
SUMMARY:Skrewy Louie's Twisted Trivia
DESCRIPTION:Trivia night with a twist! You’ll never be greeted by a more outrageously hilarious host with the most than Skrewy Louie! You’ll laugh\, maybe even cry\, but most of all\, be in with a chance to win great prizes!
URL:https://www.seaviewtavern.com.au/event/skrewy-louies-twisted-trivia-may-27-2026/
LOCATION:The Seaview Tavern\, 51 River Street\, Woolgoolga\, NSW\, 2456\, Australia
ATTACH;FMTTYPE=image/jpeg:https://www.seaviewtavern.com.au/wp-content/uploads/2021/09/SV_SkrewysTrivia_Wednesday_WEB.jpg
END:VEVENT
BEGIN:VEVENT
DTSTART;TZID=Australia/Sydney:20260528T110000
DTEND;TZID=Australia/Sydney:20260528T110000
DTSTAMP:20260425T002249
CREATED:20240417T211042Z
LAST-MODIFIED:20260312T234528Z
UID:23044-1779966000-1779966000@www.seaviewtavern.com.au
SUMMARY:Biggest Morning Tea
DESCRIPTION:Bring a plate and join us for tasty treats\, all while helping create a cancer-free future. \nRSVP: 6654 1206 or staff@seaviewtavern.com.au \nIf you’re unable to attend\, please donate using the QR code on the image or here: https://www.biggestmorningtea.com.au/fundraisers/SeaviewTavern/biggest-morning-tea-nsw
URL:https://www.seaviewtavern.com.au/event/australias-biggest-morning-tea/
LOCATION:The Seaview Tavern\, 51 River Street\, Woolgoolga\, NSW\, 2456\, Australia
ATTACH;FMTTYPE=image/jpeg:https://www.seaviewtavern.com.au/wp-content/uploads/2024/04/BIGGEST-MORNING-TEA-WEB.jpg
END:VEVENT
BEGIN:VEVENT
DTSTART;TZID=Australia/Sydney:20260528T190000
DTEND;TZID=Australia/Sydney:20260528T210000
DTSTAMP:20260425T002249
CREATED:20260317T212524Z
LAST-MODIFIED:20260317T212625Z
UID:24615-1779994800-1780002000@www.seaviewtavern.com.au
SUMMARY:Musical Bingo
DESCRIPTION:Heaps of fun! Music Galore! Great Prizes!
URL:https://www.seaviewtavern.com.au/event/musical-bingo-may-28-2026/
LOCATION:The Seaview Tavern\, 51 River Street\, Woolgoolga\, NSW\, 2456\, Australia
ATTACH;FMTTYPE=image/jpeg:https://www.seaviewtavern.com.au/wp-content/uploads/2024/04/Musical-Bingo-at-the-Seaview-Tavern-Woolgoolga.jpeg
END:VEVENT
END:VCALENDAR